BEGIN:VCALENDAR
VERSION:2.0
PRODID:-//jEvents 2.0 for Joomla//EN
CALSCALE:GREGORIAN
METHOD:PUBLISH
BEGIN:VEVENT
UID:b2172dc93d7f1b45e61c52c7212f5109
CATEGORIES:Allmänt
SUMMARY:Hundutställning i Tavelsjö
LOCATION:Tavelsjö idrottsplats
DESCRIPTION;ENCODING=QUOTED-PRINTABLE:<p>x</p>
CONTACT:frågor: Eva Lindström 070-3708828 Den här e-postadressen skyddas mot spambots. Du måste tillåta JavaScript för att se den.
				document.getElementById('cloak77fedae8e1b6fa9e0c6f67e2bc050d5a').innerHTML = '';
				var prefix = '&#109;a' + 'i&#108;' + '&#116;o';
				var path = 'hr' + 'ef' + '=';
				var addy77fedae8e1b6fa9e0c6f67e2bc050d5a = 's&#101;kr&#101;t&#101;r&#97;r&#101;.&#111;nt&#101;k' + '&#64;';
				addy77fedae8e1b6fa9e0c6f67e2bc050d5a = addy77fedae8e1b6fa9e0c6f67e2bc050d5a + 'gm&#97;&#105;l' + '&#46;' + 'c&#111;m';
				var addy_text77fedae8e1b6fa9e0c6f67e2bc050d5a = 's&#101;kr&#101;t&#101;r&#97;r&#101;.&#111;nt&#101;k' + '&#64;' + 'gm&#97;&#105;l' + '&#46;' + 'c&#111;m';document.getElementById('cloak77fedae8e1b6fa9e0c6f67e2bc050d5a').innerHTML += ''+addy_text77fedae8e1b6fa9e0c6f67e2bc050d5a+'';
		
X-EXTRAINFO:Dubbel Terrierutställning Umeå\nFredagen den 5 juni 2026 och lördagen den 6
  juni 2026\nUtställningen är officiell och öppen för alla terrier, vuxna oc
 h valpar 4-6, 6-9 mån.\n\nArrangör: Övre Norra Terrierklubben\nPlats: Tavel
 sjö IP/Umeå\nSista anmälnings- och betalningsdag: \nFredagen 8 maj 2026\nAn
 mälningsavgifter\n
DTSTAMP:20260423T081450Z
DTSTART:20260605T080000Z
DTEND:20260605T170000Z
SEQUENCE:0
TRANSP:OPAQUE
END:VEVENT
END:VCALENDAR