BEGIN:VCALENDAR
VERSION:2.0
PRODID:-//jEvents 2.0 for Joomla//EN
CALSCALE:GREGORIAN
METHOD:PUBLISH
BEGIN:VEVENT
UID:5fcc31fe6aaa4045a30d74609bdcdc88
CATEGORIES:Allmänt
SUMMARY:Nyårsöppet på Root
LOCATION:Sundlingska gården Sand 21
DESCRIPTION;ENCODING=QUOTED-PRINTABLE:\n\n\n
CONTACT:Den här e-postadressen skyddas mot spambots. Du måste tillåta JavaScript för att se den.
				document.getElementById('cloak8dbabf5e02aef9553606a0af657fe5f4').innerHTML = '';
				var prefix = '&#109;a' + 'i&#108;' + '&#116;o';
				var path = 'hr' + 'ef' + '=';
				var addy8dbabf5e02aef9553606a0af657fe5f4 = 'h&#101;ll&#111;' + '&#64;';
				addy8dbabf5e02aef9553606a0af657fe5f4 = addy8dbabf5e02aef9553606a0af657fe5f4 + 'w&#101;&#97;r&#101;r&#111;&#111;t' + '&#46;' + 's&#101;';
				var addy_text8dbabf5e02aef9553606a0af657fe5f4 = 'h&#101;ll&#111;' + '&#64;' + 'w&#101;&#97;r&#101;r&#111;&#111;t' + '&#46;' + 's&#101;';document.getElementById('cloak8dbabf5e02aef9553606a0af657fe5f4').innerHTML += ''+addy_text8dbabf5e02aef9553606a0af657fe5f4+'';
		 | 070–309 1848
X-EXTRAINFO:En ny härlig säsongen med isbanan som lockat besökare från runtom i Europa,
  Isbanan är lika bred som en motorväg och 9 km lång på vackra Tavelsjön. \n
  We recommend heading out early in the day if you plan to skate on the open
 ing weekend. If you plan to visit us here at Root, we strongly recommened b
 ooking a table as we will be full. Happy skating ?\nVare sig du är en van s
 kridskoåkare eller en nybörjare så finns det något för dig på Tavelsjö isba
 na. Skridskor kan hyras här och vi har även flera sparkar som är gratis att
  lång om du inte känner dig redo att ge dig på skridskorna än.\n
DTSTAMP:20260422T142325Z
DTSTART:20220102T090000Z
DTEND:20220102T160000Z
SEQUENCE:0
TRANSP:OPAQUE
END:VEVENT
END:VCALENDAR