BEGIN:VCALENDAR
VERSION:2.0
PRODID:-//jEvents 2.0 for Joomla//EN
CALSCALE:GREGORIAN
METHOD:PUBLISH
BEGIN:VEVENT
UID:03157f9d8be0fbc86dcb9763ae4d19e7
CATEGORIES:Allmänt
SUMMARY:Loppis & fikabuffe 
LOCATION:Bya loppis i Mickelsträsk med Fikabuffe.
DESCRIPTION;ENCODING=QUOTED-PRINTABLE:\n\n\n
CONTACT:Anki 070-233 88 14 
X-EXTRAINFO:Hembakt Fikabuffe  Karlssons Ladugård.Vuxna 50: -  Barn 30: -Swish eller ko
 ntantSkyltat från 364Varmt Välkomna!\n
DTSTAMP:20260422T085127Z
DTSTART:20190706T110000Z
DTEND:20190706T160000Z
SEQUENCE:0
TRANSP:OPAQUE
END:VEVENT
END:VCALENDAR