BEGIN:VCALENDAR
VERSION:2.0
PRODID:-//jEvents 2.0 for Joomla//EN
CALSCALE:GREGORIAN
METHOD:PUBLISH
BEGIN:VEVENT
UID:7a6c35e7831da31a5949eea36706430f
CATEGORIES:Allmänt
SUMMARY:Gammeldans, Sundlingska gården
LOCATION:Sundlingska gården, Sand, Tavelsjö
DESCRIPTION;ENCODING=QUOTED-PRINTABLE:\n\nPlatsen är Sundlingska gården, Sand, vid Tavelsjöns strand. Vi dansar t
 ill levande musik från olika spelmansgillen i Västerbotten. Först har vi en
  timmes utlärning av en gammeldans per kväll (schottis, polka, snoa, vals, 
 hambo, humppa, masurka, och polska) och sedan två timmar gammeldans.\n\n\nU
 tlärningen börjar kl. 19.00 och dansen pågår 20.00 till 22.00.\n\n\nFrivill
 igt inträde.\n\n\n23/6  Umebygdens spelmansgille\n\n\nArrangör: Tavelsjö he
 mbygdsförening och Sundlingska gården. Umeå kommun och Studieförbundet Vuxe
 nskolan.\n
CONTACT:Rolf Appelblad 070-681 35 71
DTSTAMP:20260422T101515Z
DTSTART:20190627T190000Z
DTEND:20190627T220000Z
SEQUENCE:0
TRANSP:OPAQUE
END:VEVENT
END:VCALENDAR