BEGIN:VCALENDAR
VERSION:2.0
PRODID:-//jEvents 2.0 for Joomla//EN
CALSCALE:GREGORIAN
METHOD:PUBLISH
BEGIN:VEVENT
UID:2364e71b91027161d8b96374284f6df2
CATEGORIES:Allmänt
SUMMARY:Glassöppet hos Glassbonden
LOCATION:Västra Selet 4 vid gamla Hängbron över vindelälven
DESCRIPTION;ENCODING=QUOTED-PRINTABLE:\n\n\n
CONTACT:070-523 10 11    www.glassbonden.se
X-EXTRAINFO:Öppettider 2019\nStängt 20 och 21 juni\n15 juni – 8 juli 11-17\n9 juli – 1 
 augusti 11-19\n2 augusti – 18 augusti 11-17\nForsränning från Glassbonden\n
 Boka en familjevänlig forsränningstur från Glassbonden\nFör info och boknin
 g gå in på  www.forsknackarna.se\n\n\n
DTSTAMP:20260422T101347Z
DTSTART:20190625T110000Z
DTEND:20190625T170000Z
SEQUENCE:0
TRANSP:OPAQUE
END:VEVENT
END:VCALENDAR