BEGIN:VCALENDAR
VERSION:2.0
PRODID:-//jEvents 2.0 for Joomla//EN
CALSCALE:GREGORIAN
METHOD:PUBLISH
BEGIN:VEVENT
UID:98207fa00b960132cd2be7e405320b53
CATEGORIES:Allmänt
SUMMARY:Trivselträff 
LOCATION:Tavelsjö församlingsgård
DESCRIPTION;ENCODING=QUOTED-PRINTABLE:\n\n\n
CONTACT: Marianne Olofsson: 076-771 25 85 / Den här e-postadressen skyddas mot spambots. Du måste tillåta JavaScript för att se den.
				document.getElementById('cloak434e96f21ee02c66a46d8b7a385ef1c9').innerHTML = '';
				var prefix = '&#109;a' + 'i&#108;' + '&#116;o';
				var path = 'hr' + 'ef' + '=';
				var addy434e96f21ee02c66a46d8b7a385ef1c9 = 'm&#97;r&#105;&#97;nn&#101;.&#111;l&#111;fss&#111;n' + '&#64;';
				addy434e96f21ee02c66a46d8b7a385ef1c9 = addy434e96f21ee02c66a46d8b7a385ef1c9 + 'sv&#101;nsk&#97;kyrk&#97;n' + '&#46;' + 's&#101;';
				var addy_text434e96f21ee02c66a46d8b7a385ef1c9 = 'm&#97;r&#105;&#97;nn&#101;.&#111;l&#111;fss&#111;n' + '&#64;' + 'sv&#101;nsk&#97;kyrk&#97;n' + '&#46;' + 's&#101;';document.getElementById('cloak434e96f21ee02c66a46d8b7a385ef1c9').innerHTML += ''+addy_text434e96f21ee02c66a46d8b7a385ef1c9+'';
		
X-EXTRAINFO:Trivselträff med Lunch för 70 kr. \nVi delar gemenskap, samtalar och sjunge
 r. Ronnié Sahlén tar oss med bland toner och texter - Allt från Elvis gospe
 l till kända läsarsånger. Anmälan senast måndag 26 januari. \n\n
DTSTAMP:20260421T133719Z
DTSTART:20260129T130000Z
DTEND:20260129T150000Z
SEQUENCE:0
TRANSP:OPAQUE
END:VEVENT
END:VCALENDAR