BEGIN:VCALENDAR
VERSION:2.0
PRODID:-//jEvents 2.0 for Joomla//EN
CALSCALE:GREGORIAN
METHOD:PUBLISH
BEGIN:VEVENT
UID:feb3a2d755f618ebfa66107df85b0df8
CATEGORIES:Allmänt
SUMMARY:Syjunta & Hantverksgille Överrödå Byastuga
LOCATION:Överrödå Byastuga
DESCRIPTION;ENCODING=QUOTED-PRINTABLE:<p>Vi träffas och pysslar med handarbete / hantverk som vi tar med hemifrån
 ! Drop-in Öppet Hus, avbrott för fika 13.30. </p>
CONTACT:Anita Nilsson 070 - 289 31 93
DTSTAMP:20260421T102935Z
DTSTART:20260124T123000Z
DTEND:20260124T153000Z
SEQUENCE:0
TRANSP:OPAQUE
END:VEVENT
END:VCALENDAR