BEGIN:VCALENDAR
VERSION:2.0
PRODID:-//jEvents 2.0 for Joomla//EN
CALSCALE:GREGORIAN
METHOD:PUBLISH
BEGIN:VEVENT
UID:979328f3bb75123ba0d405d68db83db2
CATEGORIES:Allmänt
SUMMARY:Gemenskapsträff för äldre och daglediga
LOCATION:Överrödå Byastuga
DESCRIPTION;ENCODING=QUOTED-PRINTABLE:<p>En träff med intressant föredrag av docent Fredrik Snellman vid Umeå Uni
 versitet. Gemenskapsträffen riktar sig till äldre och daglediga och är en a
 v fyra som kommer att hållas i Byastugan under vintern/våren. Denna första 
 träff serveras utan kostnad köttsoppa med klimp! Varmt välkomna!</p>
CONTACT:Inger Sandström 070 - 510 71 36
X-EXTRAINFO:Med stöd av Svenska Postkodlotteriets stiftelse. Har du svårt att ta dig di
 t? Vi ordnar transport ideellt av volontärer.
DTSTAMP:20260419T153317Z
DTSTART:20251125T110000Z
DTEND:20251125T140000Z
SEQUENCE:0
TRANSP:OPAQUE
END:VEVENT
END:VCALENDAR