BEGIN:VCALENDAR
VERSION:2.0
PRODID:-//jEvents 2.0 for Joomla//EN
CALSCALE:GREGORIAN
METHOD:PUBLISH
BEGIN:VEVENT
UID:d9429d665848ab81c75fbc26b5b2723f
CATEGORIES:Allmänt
SUMMARY:Paltlunch med underhållning
LOCATION:Församlingsgården i Tavelsjö
DESCRIPTION;ENCODING=QUOTED-PRINTABLE:\n\n\n
CONTACT:Handgjort.
X-EXTRAINFO:Välkomna på paltlunch med underhållning av Dodd Johansson\n måndag 24 oktob
 er kl. 12.00 i församlingsgården, Tavelsjö. \nDet finns fläskpalt, veg/vega
 n och glutenfri palt.
DTSTAMP:20260420T082013Z
DTSTART:20221024T120000Z
DTEND:20221024T140000Z
SEQUENCE:0
TRANSP:OPAQUE
END:VEVENT
END:VCALENDAR