BEGIN:VCALENDAR
VERSION:2.0
PRODID:-//jEvents 2.0 for Joomla//EN
CALSCALE:GREGORIAN
METHOD:PUBLISH
BEGIN:VEVENT
UID:449d6403f17b15c0e304d94426c02021
CATEGORIES:Allmänt
SUMMARY:Wärdshuset helgöppet
LOCATION:Strandvägen 25 Tavelsjö
DESCRIPTION;ENCODING=QUOTED-PRINTABLE:\n\n\n
CONTACT:070 243 29 40  |  Email: Den här e-postadressen skyddas mot spambots. Du måste tillåta JavaScript för att se den.
				document.getElementById('cloakc372c9e7603cd3aff3b0e60433734f8d').innerHTML = '';
				var prefix = '&#109;a' + 'i&#108;' + '&#116;o';
				var path = 'hr' + 'ef' + '=';
				var addyc372c9e7603cd3aff3b0e60433734f8d = '&#105;nf&#111;' + '&#64;';
				addyc372c9e7603cd3aff3b0e60433734f8d = addyc372c9e7603cd3aff3b0e60433734f8d + 't&#97;v&#101;lsj&#111;w&#97;rdsh&#117;s' + '&#46;' + 's&#101;';
				var addy_textc372c9e7603cd3aff3b0e60433734f8d = '&#105;nf&#111;' + '&#64;' + 't&#97;v&#101;lsj&#111;w&#97;rdsh&#117;s' + '&#46;' + 's&#101;';document.getElementById('cloakc372c9e7603cd3aff3b0e60433734f8d').innerHTML += ''+addy_textc372c9e7603cd3aff3b0e60433734f8d+'';
		
X-EXTRAINFO:God dag i vinteryran!\nHoppas vintern vart trevlig än så länge. Denna vecka
  bjuder på fint väder, och det fortsätter framöver. Och med den goda nyhete
 n kan vi även berätta att vi i helgen kommer smygöppna wärdshuset igen. Lör
 dag och söndag hittar du allt från fika och kaffe till lunch och mackor hos
  oss. Öppet 11-15 ❄️\nGlöm inte att boka hästtur! Camilla och Drulla från L
 ångvikens gård tar vänligen emot er med släden redo, välkommen att boka!\nV
 i har även  Sparkare som ni kan låna hos oss. \nPassa på att åka en mysig s
 väng genom byn eller att ta ett varv på isen. Ni hittar sparkarna parkerade
  på framsidan av huset ❄️\nDen här e-postadressen skyddas mot spambots. Du 
 måste tillåta JavaScript för att se den.
				document.getElementById('cloak
 abf0d884974a8c3040d567f788ec2845').innerHTML = '';
				var prefix = '&#109;
 a' + 'i&#108;' + '&#116;o';
				var path = 'hr' + 'ef' + '=';
				var addya
 bf0d884974a8c3040d567f788ec2845 = 'Inf&#111;' + '&#64;';
				addyabf0d88497
 4a8c3040d567f788ec2845 = addyabf0d884974a8c3040d567f788ec2845 + 't&#97;v&#1
 01;lsj&#111;w&#97;rdsh&#117;s' + '&#46;' + 's&#101;';
				var addy_textabf0
 d884974a8c3040d567f788ec2845 = 'Inf&#111;' + '&#64;' + 't&#97;v&#101;lsj&#1
 11;w&#97;rdsh&#117;s' + '&#46;' + 's&#101;';document.getElementById('cloaka
 bf0d884974a8c3040d567f788ec2845').innerHTML += ''+addy_textabf0d884974a8c30
 40d567f788ec2845+'';
		\n070-2432940
DTSTAMP:20260422T185116Z
DTSTART:20220122T110000Z
DTEND:20220122T150000Z
SEQUENCE:0
TRANSP:OPAQUE
END:VEVENT
END:VCALENDAR