BEGIN:VCALENDAR
VERSION:2.0
PRODID:-//jEvents 2.0 for Joomla//EN
CALSCALE:GREGORIAN
METHOD:PUBLISH
BEGIN:VEVENT
UID:a820215bfb1c3612ab2d02e408059b2c
CATEGORIES:Allmänt
SUMMARY:Skridskouthyrning öppen !
LOCATION:Sundlingska gården Sand 21
DESCRIPTION;ENCODING=QUOTED-PRINTABLE:\n\n\n
CONTACT:072-535 9910
X-EXTRAINFO:Skridskouthyrning på Sundlingska Gården är öppen alla dagar från juldagen d
 en 25 dec till söndagen den 2 januari! ⛸?\nUthyrningen är öppen för utlämni
 ng av skridskor mellan kl: 10-12 och återlämning sker genom kattluckan i vä
 ggen när man åkt färdigt. Ring 072-5359910 för att boka skridskor "när som 
 helst" och priset är 150:- / dag för skridskor + dagkort eller säsongskort 
 på isbanan. Skridskorna har en enklare snowboard-bindning och är avsedda fö
 r grova skor typ kängor.\nDagkort per person: 60:-\nSäsongskort en person: 
 200:-\nSäsongskort en familj: 350:-\nTavelsjö AIK Isbana har Swish-nr: 123 
 553 44 33 och märk betalningen med ditt/familjens namn. Det går även bra at
 t betala via bankgiro till nr: 5375-3265 och även här skall man naturligtvi
 s uppge sitt/familjens namn.
DTSTAMP:20260420T141629Z
DTSTART:20211228T100000Z
DTEND:20211228T120000Z
SEQUENCE:0
RRULE:FREQ=DAILY;UNTIL=20220103T000000Z;INTERVAL=1
TRANSP:OPAQUE
END:VEVENT
END:VCALENDAR