BEGIN:VCALENDAR
VERSION:2.0
PRODID:-//jEvents 2.0 for Joomla//EN
CALSCALE:GREGORIAN
METHOD:PUBLISH
BEGIN:VEVENT
UID:d9533ce72c2aab73e27956694613eb80
CATEGORIES:Allmänt
SUMMARY:Rea Blåeld
LOCATION:Strandvägen 25 i Tavelsjö
DESCRIPTION;ENCODING=QUOTED-PRINTABLE:\n\n\n
CONTACT:Katarina 070-308 3896 
X-EXTRAINFO:Årets sista öppet helg Lör-Sön 12-15. 20% på hela sortimentet! (förutom ege
 n tillverkning)\n Varmt välkomna!\n
DTSTAMP:20260422T062417Z
DTSTART:20191229T120000Z
DTEND:20191229T150000Z
SEQUENCE:0
TRANSP:OPAQUE
END:VEVENT
END:VCALENDAR