BEGIN:VCALENDAR
VERSION:2.0
PRODID:-//jEvents 2.0 for Joomla//EN
CALSCALE:GREGORIAN
METHOD:PUBLISH
BEGIN:VEVENT
UID:36e0f529c7e3a94328c6ac7d2fee7d1a
CATEGORIES:Allmänt
SUMMARY:Jullovskul på Mickelbo
LOCATION:Mickelbo gård i Mickelsträsk
DESCRIPTION;ENCODING=QUOTED-PRINTABLE:\n\n\n
CONTACT:Linda 070-376 7109
X-EXTRAINFO:Idag är det jullovskul på gården, här är hålltiderna ☺️\nMys i klapphörnan 
 hela dagen\n 11.00 Ponnypyssel\n 11.30 Ponnyridning (20:-)\n 12.00-13.00 Sl
 ädturer med häst (30:-)\n12.30 Tomten kommer förbi (chans att lämna in klap
 pjakt)\n 12.45 Ponnyridning (20:-)\n 13.00 Trollen börjar koka trollsoppiso
 ppa\n 13.00 Alpackamatning\n 13.15 Träffa kameler\n 13.30 Jakten på den för
 svunna snögubben\n 13.45 Tomten kommer förbi (chans att lämna in klappjakt)
 \n 14.00 Foderrunda\n\nKlappjakt (30:-)\n Den 27/12 och 28/12 finns möjligh
 et att åka hundspann (50:-)\nVarmt välkomna!\n
DTSTAMP:20260422T061642Z
DTSTART:20191226T110000Z
DTEND:20191226T170000Z
SEQUENCE:0
TRANSP:OPAQUE
END:VEVENT
END:VCALENDAR