BEGIN:VCALENDAR
VERSION:2.0
PRODID:-//jEvents 2.0 for Joomla//EN
CALSCALE:GREGORIAN
METHOD:PUBLISH
BEGIN:VEVENT
UID:02508b41b1e6bc4ede84adafcacb97cd
CATEGORIES:Allmänt
SUMMARY:Julklappsöppett Blåeld
LOCATION:Strandvägen 25 i Tavelsjö
DESCRIPTION;ENCODING=QUOTED-PRINTABLE:\n\n\n
CONTACT:Bosse 070-636 0486
X-EXTRAINFO:Personliga klappar hittar du här och en lugn miljö!\n Öppet 12-15\n Bosse o
 ch Oskar hälsar er välkomna!\n
DTSTAMP:20260422T060819Z
DTSTART:20191222T120000Z
DTEND:20191222T150000Z
SEQUENCE:0
TRANSP:OPAQUE
END:VEVENT
END:VCALENDAR