BEGIN:VCALENDAR
VERSION:2.0
PRODID:-//jEvents 2.0 for Joomla//EN
CALSCALE:GREGORIAN
METHOD:PUBLISH
BEGIN:VEVENT
UID:d378ce1e23ba2eb9dd458a830fdf13fb
CATEGORIES:Allmänt
SUMMARY:Hästen i tavelsjöbygden
LOCATION:Flukmark
DESCRIPTION;ENCODING=QUOTED-PRINTABLE:\n\n\n
CONTACT:www.stallflurkmark.n.nu    Anna-Lena 076-677 03 19
X-EXTRAINFO:För mer info, se hemsidan www.stallflurkmark.n.nu/, eller FB-sidan Hästen i
  Tavelsjöbygden, eller ring AnnaLena, 0766-770319. Anmäl snarast, begränsat
  antal platser!\n.\n\n\nHighlights info row image\n\n\nSvarar vanligen inom
  en dag\n\nSkicka meddelande\n.\n\n\n\n
DTSTAMP:20260422T062314Z
DTSTART:20191227T100000Z
DTEND:20191227T150000Z
SEQUENCE:0
TRANSP:OPAQUE
END:VEVENT
END:VCALENDAR