BEGIN:VCALENDAR
VERSION:2.0
PRODID:-//jEvents 2.0 for Joomla//EN
CALSCALE:GREGORIAN
METHOD:PUBLISH
BEGIN:VEVENT
UID:93c357ac98f63fdf7b844ff4a9b700da
CATEGORIES:Allmänt
SUMMARY:Julotta
LOCATION:Tavelsjö Kyrka
DESCRIPTION;ENCODING=QUOTED-PRINTABLE:\n\n\n
X-EXTRAINFO:Juldagen kl. 7 Julotta. \nJohannes Nord, Anders Winterstam. \nSång Michael 
 Brodin.\nVälkomna!
DTSTAMP:20260422T060820Z
DTSTART:20191225T070000Z
DTEND:20191225T080000Z
SEQUENCE:0
TRANSP:OPAQUE
END:VEVENT
END:VCALENDAR