BEGIN:VCALENDAR
VERSION:2.0
PRODID:-//jEvents 2.0 for Joomla//EN
CALSCALE:GREGORIAN
METHOD:PUBLISH
BEGIN:VEVENT
UID:c4dd5e5b4cdc78ae1c9da3707e8ad033
CATEGORIES:Allmänt
SUMMARY:decemberstängt på Wärdshuset
LOCATION:Strandvägen 25 i Tavelsjö
DESCRIPTION;ENCODING=QUOTED-PRINTABLE:\n\n\n
CONTACT:070-243 29 40  http://wardshusettavelsjo.se
X-EXTRAINFO:På grund av brist på personal tvingas vi  ha stängt fram till jul.\n Öppnar
  igen den 11 januari, håll tummarna för att isbanan är igång och vädret är 
 fint.
DTSTAMP:20260422T074723Z
DTSTART:20191221T120000Z
DTEND:20191221T150000Z
SEQUENCE:0
TRANSP:OPAQUE
END:VEVENT
END:VCALENDAR