BEGIN:VCALENDAR
VERSION:2.0
PRODID:-//jEvents 2.0 for Joomla//EN
CALSCALE:GREGORIAN
METHOD:PUBLISH
BEGIN:VEVENT
UID:4719bfbaa31ece841b2b1346a342328c
CATEGORIES:Allmänt
SUMMARY:Julsånger i Gullsjö
LOCATION:Gullsjö 17 i Vännäs kommun
DESCRIPTION;ENCODING=QUOTED-PRINTABLE:\n\n\n
CONTACT:Tron Bach hemsida https://www.saabmemorialhall.info/
X-EXTRAINFO:Välkomna att sjunga/lyssna på julsånger i Trons museum.\nTron bjuder på ”ju
 lebakst, varm ckokolade og glögg”\nVälkomna!
DTSTAMP:20260422T073518Z
DTSTART:20191214T180000Z
DTEND:20191214T210000Z
SEQUENCE:0
TRANSP:OPAQUE
END:VEVENT
END:VCALENDAR