BEGIN:VCALENDAR
VERSION:2.0
PRODID:-//jEvents 2.0 for Joomla//EN
CALSCALE:GREGORIAN
METHOD:PUBLISH
BEGIN:VEVENT
UID:c6278ea5e17a91ceee64d97e0a64f9e3
CATEGORIES:Allmänt
SUMMARY:Gudstjänst på Annandag jul, Överrödå
LOCATION:Överrödå Byastuga
DESCRIPTION;ENCODING=QUOTED-PRINTABLE:\n\nPräst är Åsa Olsson och musiker Roland Widmark. Efter gudstjänsten serv
 eras julfika!\n\n\n\n
CONTACT:Anita Nilsson 070-28 93 193
DTSTAMP:20260422T062259Z
DTSTART:20191226T110000Z
SEQUENCE:0
TRANSP:OPAQUE
END:VEVENT
END:VCALENDAR