BEGIN:VCALENDAR
VERSION:2.0
PRODID:-//jEvents 2.0 for Joomla//EN
CALSCALE:GREGORIAN
METHOD:PUBLISH
BEGIN:VEVENT
UID:06b4232a62d1130f0ad2642314bd8c4a
CATEGORIES:Allmänt
SUMMARY:Årets Julkonsert
LOCATION:Tavelsjö Kyrka
DESCRIPTION;ENCODING=QUOTED-PRINTABLE:\n\n\n
X-EXTRAINFO:Julkonsert\nLördag 21 december kl. 18 i Tavelsjö kyrka.\nKonsert med Tavels
 jö julkör, Skaparkören, solister och instrumentalister under ledning av And
 ers Winterstam.\nInsamling till Svenska kyrkans julkampanj för allla flicko
 r rätt till ett värdigt liv.\n\nVarmt välkomna!\n\n  \n     \n0\n 
DTSTAMP:20260422T074703Z
DTSTART:20191221T180000Z
DTEND:20191221T193000Z
SEQUENCE:0
TRANSP:OPAQUE
END:VEVENT
END:VCALENDAR