BEGIN:VCALENDAR
VERSION:2.0
PRODID:-//jEvents 2.0 for Joomla//EN
CALSCALE:GREGORIAN
METHOD:PUBLISH
BEGIN:VEVENT
UID:a2e7d0eb0d5bd5d3ddac8cb80bea0bb6
CATEGORIES:Allmänt
SUMMARY:Luciafirande
LOCATION:Tavelsjö Kyrka
DESCRIPTION;ENCODING=QUOTED-PRINTABLE:\n\n\n
X-EXTRAINFO:Fredag 13/12 kl. 18.30 i Tavelsjö kyrka. \nLuciatåg med Skaparkören och vår
 a barngrupper. \nEfter Luciatåget bjuder barnen på pepparkakor och dryck i 
 barnlokalen.\nVarmt välkomna!\n
DTSTAMP:20260422T060727Z
DTSTART:20191213T183000Z
DTEND:20191213T200000Z
SEQUENCE:0
TRANSP:OPAQUE
END:VEVENT
END:VCALENDAR