BEGIN:VCALENDAR
VERSION:2.0
PRODID:-//jEvents 2.0 for Joomla//EN
CALSCALE:GREGORIAN
METHOD:PUBLISH
BEGIN:VEVENT
UID:3bfe57f94cfb201ddfd8dabc2d2c57f9
CATEGORIES:Allmänt
SUMMARY:Julfest med Tomtegröt
LOCATION:Selets bygdegård
DESCRIPTION;ENCODING=QUOTED-PRINTABLE:\n\n\n
CONTACT: Selets Byaförening 
X-EXTRAINFO:anmälan Carina Nilsson 070-6375275
DTSTAMP:20260422T060846Z
DTSTART:20191213T180000Z
DTEND:20191213T200000Z
SEQUENCE:0
TRANSP:OPAQUE
END:VEVENT
END:VCALENDAR