BEGIN:VCALENDAR
VERSION:2.0
PRODID:-//jEvents 2.0 for Joomla//EN
CALSCALE:GREGORIAN
METHOD:PUBLISH
BEGIN:VEVENT
UID:f22d97fce51f5ee884a6cd65b6f5bbbd
CATEGORIES:Allmänt
SUMMARY:Lördagsöppet Nordenssons gårdsbutik
LOCATION:Kroksjö 32
DESCRIPTION;ENCODING=QUOTED-PRINTABLE:\n\n\n
CONTACT:Elin 070-650 6163
X-EXTRAINFO:Välkommen in till butiken! \nIdag bjuder vi på glögg och hembakade pepparka
 kor ❤️ dessutom är kyldisken fylld med gosaker \nvi har öppet mellan kl 11-
 15. \nVälkommen! \n
DTSTAMP:20260422T061540Z
DTSTART:20191207T110000Z
DTEND:20191207T150000Z
SEQUENCE:0
TRANSP:OPAQUE
END:VEVENT
END:VCALENDAR