BEGIN:VCALENDAR
VERSION:2.0
PRODID:-//jEvents 2.0 for Joomla//EN
CALSCALE:GREGORIAN
METHOD:PUBLISH
BEGIN:VEVENT
UID:466f18eeaea104dcfac62f586fb5b5bd
CATEGORIES:Allmänt
SUMMARY:öppet Gullsjö Bageri
LOCATION:Fagerlund 106 Vännäs
DESCRIPTION;ENCODING=QUOTED-PRINTABLE:\n\n\n
CONTACT:Helen Roslund 
X-EXTRAINFO:Lördagsöppet från 13.00-18.00 med saffranssemlor, bröd och litteratur. Från
  16.00 finns Tomas på.plats.\n Varmt ( ja, det är varmt i Bageriet) välkomn
 a
DTSTAMP:20260422T045358Z
DTSTART:20191130T130000Z
DTEND:20191130T180000Z
SEQUENCE:0
TRANSP:OPAQUE
END:VEVENT
END:VCALENDAR