BEGIN:VCALENDAR
VERSION:2.0
PRODID:-//jEvents 2.0 for Joomla//EN
CALSCALE:GREGORIAN
METHOD:PUBLISH
BEGIN:VEVENT
UID:00621f78b74820ab5e266c4a8ff3a611
CATEGORIES:Allmänt
SUMMARY:Helg öppet på Mickelbo gård
LOCATION:Mickelbo gård, i Mickelträsk, ca 4 mil norr om Umeå, längs väg 364 mot Burt
 räsk
DESCRIPTION;ENCODING=QUOTED-PRINTABLE:\n\n\n
CONTACT:Linda 070-376 7109
X-EXTRAINFO:Tomte, troll och djur i vinterskrud välkomnar er i vår vinterpark\nVid 12 t
 iden anländer tomten genom parken med släde om snö finns, annars kommer han
  vandrande. Sedan träffar ni hela dagen tomten i sin stuga där han väntar p
 å barnens önskelistor, utanför hans stuga smyger de busiga trollen omkring 
 och bjuder in till trolltajm 11.30 och 13.40. \nI hägnen i parken finner ni
  förutom kamelerna i vinterskrud bl.a även lama, alpacka, getter, ponnyer, 
 jak och inne i lagårn kan ni mysa med våra smådjur.\nSjälvklart hoppas vi a
 tt snön ska hinna lägga sig likt ett vitt täcke, så att hästarna kan spänna
 s framför risselslädarna och erbjuda er en rundtur.\n\nHålltider:\n Ponnypy
 ssel Kl. 11.00\n Trolltajm del 1 Kl. 11.30\n Tomten anländer Kl 12.00\n Slä
 dturer (om snö) Kl. 12.10-13.00 30:-/person\n Ponnyridning Kl. 11.45, 13.00
  20:-/person\n Alpackamatning Kl. 12.15\n Trolltajm del 2 Kl. 13.40\n Foder
 runda Kl. 14.00\n
DTSTAMP:20260422T074901Z
DTSTART:20191130T110000Z
DTEND:20191130T170000Z
SEQUENCE:0
RRULE:FREQ=WEEKLY;UNTIL=20191222T000000Z;INTERVAL=1;BYDAY=SA
TRANSP:OPAQUE
END:VEVENT
BEGIN:VEVENT
UID:00621f78b74820ab5e266c4a8ff3a611
CATEGORIES:Allmänt
SUMMARY:Hundspann på Mickelbo gård
LOCATION:Mickelbo gård, i Mickelträsk, ca 4 mil norr om Umeå, längs väg 364 mot Burt
 räsk
DESCRIPTION;ENCODING=QUOTED-PRINTABLE:\n\n\n
CONTACT:Linda 070-376 7109
X-EXTRAINFO:Tomte, troll och djur i vinterskrud välkomnar er i vår vinterparkSnögubben 
 och kråkan testade åka hundspann, de kan ni också göra hos oss i helgen.Vid
  12 tiden anländer tomten genom parken med släde om snö finns, annars komme
 r han vandrande. Sedan träffar ni hela dagen tomten i sin stuga där han vän
 tar på barnens önskelistor, utanför hans stuga smyger de busiga trollen omk
 ring och bjuder in till trolltajm 11.30 och 13.40. I hägnen i parken finner
  ni förutom kamelerna i vinterskrud bl.a även lama, alpacka, getter, ponnye
 r, jak och inne i lagårn kan ni mysa med våra smådjur.Självklart hoppas vi 
 att snön ska hinna lägga sig likt ett vitt täcke, så att hästarna kan spänn
 as framför risselslädarna och erbjuda er en rundtur.Hålltider: Ponnypyssel 
 Kl. 11.00 Trolltajm del 1 Kl. 11.30 Tomten anländer Kl 12.00 Slädturer (om 
 snö) Kl. 12.10-13.00 30:-/person Ponnyridning Kl. 11.45, 13.00 20:-/person 
 Alpackamatning Kl. 12.15 Trolltajm del 2 Kl. 13.40 Foderrunda Kl. 14.00
DTSTAMP:20260422T074901Z
DTSTART:20191221T110000Z
DTEND:20191221T170000Z
RECURRENCE-ID:20191221T110000Z
SEQUENCE:0
TRANSP:OPAQUE
END:VEVENT
END:VCALENDAR