BEGIN:VCALENDAR
VERSION:2.0
PRODID:-//jEvents 2.0 for Joomla//EN
CALSCALE:GREGORIAN
METHOD:PUBLISH
BEGIN:VEVENT
UID:492490e2bfc12d41af5c07c522436498
CATEGORIES:Allmänt
SUMMARY:Adventsfest med tomtegröt och Lucia
LOCATION:Överrödå Byastuga
DESCRIPTION;ENCODING=QUOTED-PRINTABLE:<p>Adventsfest med risgrynsgröt och Lucia-tåg. Gröt med skinksmörgås, kaffe
  o kaka, lotterier, pysselhörna. Kostar 60 kr/vuxen, barn 7-14 år 30 kr. An
 mäl senast 4/12 till Margareta Englund 070 - 28 74 598.</p>
CONTACT:Anita Nilsson 070-28 93 193
DTSTAMP:20260422T075222Z
DTSTART:20191207T130000Z
SEQUENCE:0
TRANSP:OPAQUE
END:VEVENT
END:VCALENDAR