BEGIN:VCALENDAR
VERSION:2.0
PRODID:-//jEvents 2.0 for Joomla//EN
CALSCALE:GREGORIAN
METHOD:PUBLISH
BEGIN:VEVENT
UID:80475d0670b184b9e9ec65abae0f7c31
CATEGORIES:Allmänt
SUMMARY:Dragspelsvännerna underhåller i Selet
LOCATION:Selets bygdegård
DESCRIPTION;ENCODING=QUOTED-PRINTABLE:\n\n\n
CONTACT:Selets EFS
X-EXTRAINFO:Medverkande Dragspelsvännerna\nFikaservering\nVälkomna
DTSTAMP:20260422T045410Z
DTSTART:20191124T140000Z
DTEND:20191124T160000Z
SEQUENCE:0
TRANSP:OPAQUE
END:VEVENT
END:VCALENDAR