BEGIN:VCALENDAR
VERSION:2.0
PRODID:-//jEvents 2.0 for Joomla//EN
CALSCALE:GREGORIAN
METHOD:PUBLISH
BEGIN:VEVENT
UID:02bab4e461ba0045061884f45a3f1ab9
CATEGORIES:Allmänt
SUMMARY:Säsongavslutning Rödå Antik 
LOCATION:Rödå Antik i Rödåsel
DESCRIPTION;ENCODING=QUOTED-PRINTABLE:\n\n\n
CONTACT:Ewa / 070-3626557
X-EXTRAINFO:Nu går denna säsong mot sitt slut. \n Öppet Lördag o Söndag 11-16.\n 30/11~
  1/12 är det säsongsavslut\n Hjätligt välkomna ?
DTSTAMP:20260422T073518Z
DTSTART:20191201T110000Z
DTEND:20191201T160000Z
SEQUENCE:0
TRANSP:OPAQUE
END:VEVENT
END:VCALENDAR