BEGIN:VCALENDAR
VERSION:2.0
PRODID:-//jEvents 2.0 for Joomla//EN
CALSCALE:GREGORIAN
METHOD:PUBLISH
BEGIN:VEVENT
UID:f0decd28db78016a764ad3f543c85779
CATEGORIES:Allmänt
SUMMARY:Blåeld Helgöppet
LOCATION:Strandvägen 25 i Tavelsjö
DESCRIPTION;ENCODING=QUOTED-PRINTABLE:\n\n\n
CONTACT:Katarina 070-308 3896
X-EXTRAINFO:Återvunna tegelstens lådor, så fina till mycket!\nVi har öppet som vanligt 
 Lör-sön 12-15, \nSå varmt välkomna!\n\n
DTSTAMP:20260422T060845Z
DTSTART:20191124T120000Z
DTEND:20191124T150000Z
SEQUENCE:0
TRANSP:OPAQUE
END:VEVENT
END:VCALENDAR