BEGIN:VCALENDAR
VERSION:2.0
PRODID:-//jEvents 2.0 for Joomla//EN
CALSCALE:GREGORIAN
METHOD:PUBLISH
BEGIN:VEVENT
UID:403d4957a70672f383b1ba67bc63bb4c
CATEGORIES:Allmänt
SUMMARY:Energismart bostad!
LOCATION:Tavelsjö församlingsgård.
DESCRIPTION;ENCODING=QUOTED-PRINTABLE:\n\n\n
X-EXTRAINFO:Energismart bostad - spara pengar, spara miljö\n Onsdag 27/11 kl. 18.30 i T
 avelsjö församlingsgård.\n Sara Ekenstedt guidar oss vidare i miljöprojekte
 t Tavelsjö forever. \n Vi får även träffa personer från bygden som berättar
  om deras olika energilösningar för deras bostäder. \nÄr du nyfiken på hur 
 du kan värma upp huset miljövänligt och ekonomiskt bra? \nBo Jonsson kommer
  att berätta om jordvärme och solpaneler.\nMonika Sandström berättar om jor
 dvärme och deras installationsplaner gällande solpaneler.\nKim Ahlstrand be
 rättar om bergvärme.\n Ingen anmälan krävs och vi bjuder på fika.\n Varmt v
 älkomna!
DTSTAMP:20260422T062409Z
DTSTART:20191127T183000Z
DTEND:20191127T200000Z
SEQUENCE:0
TRANSP:OPAQUE
END:VEVENT
END:VCALENDAR