BEGIN:VCALENDAR
VERSION:2.0
PRODID:-//jEvents 2.0 for Joomla//EN
CALSCALE:GREGORIAN
METHOD:PUBLISH
BEGIN:VEVENT
UID:a0f3efb10218f34b7644bc14e75dc482
CATEGORIES:Allmänt
SUMMARY:Säsongsavslutning Formula 1 racet
LOCATION:Västerbacka-Långvikens skolhus 
DESCRIPTION;ENCODING=QUOTED-PRINTABLE:\n\n\n
CONTACT:anmälan Krister Etting
X-EXTRAINFO:Vi träffas på skolhuset och avnjuter det sista Formula 1 racet för säsongen
 , Etihad Airways Abu Dhabis GP. Styrelsen ordnar med snacks, tilltugg och d
 ryck. En blygsam avgift på 100kr erläggs för allt detta. Meddela Krister om
  ni kommer så vi kan mängda tilltugg mm. 
DTSTAMP:20260422T074820Z
DTSTART:20191201T130000Z
DTEND:20191201T170000Z
SEQUENCE:0
TRANSP:OPAQUE
END:VEVENT
END:VCALENDAR