BEGIN:VCALENDAR
VERSION:2.0
PRODID:-//jEvents 2.0 for Joomla//EN
CALSCALE:GREGORIAN
METHOD:PUBLISH
BEGIN:VEVENT
UID:764944220b277f185acb95c393cc1b10
CATEGORIES:Allmänt
SUMMARY:Öppet hus hos Stenlunds
LOCATION:Rödåsel
DESCRIPTION;ENCODING=QUOTED-PRINTABLE:\n\n\n
CONTACT:070-630 8769
X-EXTRAINFO:Öppet hus 22-23 november\nDet finns många fina & hårda julklappar för alla 
 åldrar !\nVälkomna att se på alla nyheter !
DTSTAMP:20260422T045358Z
DTSTART:20191122T100000Z
DTEND:20191122T160000Z
SEQUENCE:0
TRANSP:OPAQUE
END:VEVENT
END:VCALENDAR