BEGIN:VCALENDAR
VERSION:2.0
PRODID:-//jEvents 2.0 for Joomla//EN
CALSCALE:GREGORIAN
METHOD:PUBLISH
BEGIN:VEVENT
UID:97afeca410323e923158172cc0583f8c
CATEGORIES:Allmänt
SUMMARY:Helgnytt hos Rödå antik
LOCATION:Rödå Antik i Rödåsel
DESCRIPTION;ENCODING=QUOTED-PRINTABLE:\n\n\n
CONTACT:Ewa / 070-3626557
X-EXTRAINFO:Nyheter i vår butik!\nÖppet Lördag o Söndag 11-16\n Välkomna
DTSTAMP:20260422T060845Z
DTSTART:20191116T110000Z
DTEND:20191116T160000Z
SEQUENCE:0
TRANSP:OPAQUE
END:VEVENT
END:VCALENDAR