BEGIN:VCALENDAR
VERSION:2.0
PRODID:-//jEvents 2.0 for Joomla//EN
CALSCALE:GREGORIAN
METHOD:PUBLISH
BEGIN:VEVENT
UID:48eae004a7f34cec4efeedb541983087
CATEGORIES:Allmänt
SUMMARY:Blåeld lördagsöppet
LOCATION:Strandvägen 25 i Tavelsjö
DESCRIPTION;ENCODING=QUOTED-PRINTABLE:\n\n\n
CONTACT:Katarina 070-308 3896
X-EXTRAINFO:Vi har öppet som vanligt Lör-sön 12-15, \nså varmt välkomna!\nWärdshuset ha
 r söndagsöppet!\n
DTSTAMP:20260422T045358Z
DTSTART:20191116T120000Z
DTEND:20191116T150000Z
SEQUENCE:0
TRANSP:OPAQUE
END:VEVENT
END:VCALENDAR