BEGIN:VCALENDAR
VERSION:2.0
PRODID:-//jEvents 2.0 for Joomla//EN
CALSCALE:GREGORIAN
METHOD:PUBLISH
BEGIN:VEVENT
UID:fcf568ccf195394caf9048d490fdd84a
CATEGORIES:Allmänt
SUMMARY:Följ med Håkan på "bilresa" i USA
LOCATION:Rödåsels bygdegård
DESCRIPTION;ENCODING=QUOTED-PRINTABLE:\n\n\n
CONTACT:Rödålidens Blåbandsförening o NBV
X-EXTRAINFO:Lördag 16 november kl 14.00\n Rödåsels Bygdegård\nBilresa i USA---Håkan Kar
 lsson Sävar berättar och visar bilder\n Servering\n Välkomna\n 
DTSTAMP:20260422T045333Z
DTSTART:20191116T140000Z
DTEND:20191116T160000Z
SEQUENCE:0
TRANSP:OPAQUE
END:VEVENT
END:VCALENDAR