BEGIN:VCALENDAR
VERSION:2.0
PRODID:-//jEvents 2.0 for Joomla//EN
CALSCALE:GREGORIAN
METHOD:PUBLISH
BEGIN:VEVENT
UID:475d1a92e04384788b31bd20aa4519f4
CATEGORIES:Allmänt
SUMMARY:Årsmöte LRF Tavelsjöbygden 
LOCATION:Kroksjö Byastuga
DESCRIPTION;ENCODING=QUOTED-PRINTABLE:\n\n\n
CONTACT:Maria Ärlestig
X-EXTRAINFO:Tavelsjöbygdens LRF inbjuder alla medlemmar till årsmöte i Kroksjö byastuga
  måndag den 18 november kl 19.00.\n* Sedvanliga årsmötesförhandlingar.\n* S
 oliga lantbruk i norr.\nHåkan Stenmark berättar om projektet.\n* Avdelninge
 n bjuder på kaffe, te och smörgåstårta!\nVälkomna!\n
DTSTAMP:20260422T061540Z
DTSTART:20191118T190000Z
DTEND:20191118T210000Z
SEQUENCE:0
TRANSP:OPAQUE
END:VEVENT
END:VCALENDAR