BEGIN:VCALENDAR
VERSION:2.0
PRODID:-//jEvents 2.0 for Joomla//EN
CALSCALE:GREGORIAN
METHOD:PUBLISH
BEGIN:VEVENT
UID:7ccee60ed0b4ec4f1c2c81e747605eae
CATEGORIES:Allmänt
SUMMARY:Markägarmöte
LOCATION:Tavelsjö bygdegård
DESCRIPTION;ENCODING=QUOTED-PRINTABLE:\n\n\n
CONTACT:Studieförbundet Vuxenskolan Umeå
X-EXTRAINFO:Välkommen till markägarmöte 4 december kl 18-21 i Tavelsjö!\n• Allmänt om ä
 ganderätt och markintrång\n• Naturreservat och nyckelbiotoper\n• LRFs princ
 ipmål; bombmurkla, lavskrika, fjällnära skog\n• Skoter- och terrängkörning\
 nÖppet för både dig som är medlem i LRF och dig som ej är medlem.\nVälkomna
 !\n
DTSTAMP:20260422T073428Z
DTSTART:20191204T180000Z
DTEND:20191204T210000Z
SEQUENCE:0
TRANSP:OPAQUE
END:VEVENT
END:VCALENDAR