BEGIN:VCALENDAR
VERSION:2.0
PRODID:-//jEvents 2.0 for Joomla//EN
CALSCALE:GREGORIAN
METHOD:PUBLISH
BEGIN:VEVENT
UID:91519c90bcd3f1f6ae7ecf760e049456
CATEGORIES:Allmänt
SUMMARY:Nedplockning av kärvar
LOCATION:Höghässjan Norrfors
DESCRIPTION;ENCODING=QUOTED-PRINTABLE:\n\nNu på lördag den 9 november samlas vi vid kornhässjan (höghässjan) i No
 rrfors för att plocka ned kärvarna från hässjan. Efter puts och ev. omknytn
 ing lastar vi bilsläpet för transport till Tavelsjö.\n\n\nSamling 9:30 vid 
 kornhässjan i Norrfors. Man måste köra runt i Norrfors för att komma ända f
 ram.\n\n\nKlä er varmt, och ta gärna med eget fika.\n\n\nRing Rolf för närm
 are beskrivning 070-681 35 71.\n
CONTACT:Rolf 070-681 35 71.
DTSTAMP:20260422T060844Z
DTSTART:20191109T093000Z
SEQUENCE:0
TRANSP:OPAQUE
END:VEVENT
END:VCALENDAR