BEGIN:VCALENDAR
VERSION:2.0
PRODID:-//jEvents 2.0 for Joomla//EN
CALSCALE:GREGORIAN
METHOD:PUBLISH
BEGIN:VEVENT
UID:09229a604f6b4c97acaacaa754541240
CATEGORIES:Allmänt
SUMMARY:Helgnytt hos Rödå antik
LOCATION:Rödå Antik i Rödåsel
DESCRIPTION;ENCODING=QUOTED-PRINTABLE:\n\n\n
CONTACT:Ewa / 070-3626557
X-EXTRAINFO:VINTERTID\n Söndag 27 oktober\n Öppet 11-16\n Välkomna\n
DTSTAMP:20260421T231641Z
DTSTART:20191027T110000Z
DTEND:20191027T160000Z
SEQUENCE:0
TRANSP:OPAQUE
END:VEVENT
END:VCALENDAR