BEGIN:VCALENDAR
VERSION:2.0
PRODID:-//jEvents 2.0 for Joomla//EN
CALSCALE:GREGORIAN
METHOD:PUBLISH
BEGIN:VEVENT
UID:48f652423b064312452df7ef1f3ebb5e
CATEGORIES:Allmänt
SUMMARY:Helgnytt hos Blåeld
LOCATION:Strandvägen 25 i Tavelsjö
DESCRIPTION;ENCODING=QUOTED-PRINTABLE:\n\n\n
CONTACT:Katarina 070-308 3896
X-EXTRAINFO:Plockat fram lite nyheter ......\nÖppet  Lör-sön 12-15, \nVarmt Välkomna!\n
DTSTAMP:20260421T231754Z
DTSTART:20191027T120000Z
DTEND:20191027T150000Z
SEQUENCE:0
TRANSP:OPAQUE
END:VEVENT
END:VCALENDAR