BEGIN:VCALENDAR
VERSION:2.0
PRODID:-//jEvents 2.0 for Joomla//EN
CALSCALE:GREGORIAN
METHOD:PUBLISH
BEGIN:VEVENT
UID:a5b62c4f94dd384e76cddee685ac1eeb
CATEGORIES:Allmänt
SUMMARY:Farsdagsmiddag!
LOCATION:Wärdhuset, Tavelsjö Strandvägen 25
DESCRIPTION;ENCODING=QUOTED-PRINTABLE:\n\n\n
CONTACT:070-243 29 40  http://wardshusettavelsjo.se
X-EXTRAINFO:Söndag 10/11 firar vi farsdag på Wärdshuset  \nFör de som bokar serverar vi
  fläskfilé med potatisgratäng och en tårtbit för 160kr\nVi har öppet till 1
 6.00 den dagen och det går att boka mat mellan 12-15 ?\nSå skynda boka 070-
 2432940\nEller Mail Den här e-postadressen skyddas mot spambots. Du måste t
 illåta JavaScript för att se den.
				document.getElementById('cloakc0d7405
 e9dd85c1374ba079d7ac3e491').innerHTML = '';
				var prefix = '&#109;a' + 'i
 &#108;' + '&#116;o';
				var path = 'hr' + 'ef' + '=';
				var addyc0d7405e
 9dd85c1374ba079d7ac3e491 = 'w&#97;rdsh&#117;s&#101;t' + '&#64;';
				addyc0
 d7405e9dd85c1374ba079d7ac3e491 = addyc0d7405e9dd85c1374ba079d7ac3e491 + 't&
 #97;v&#101;lsj&#111;' + '&#46;' + 's&#101;';
				var addy_textc0d7405e9dd85
 c1374ba079d7ac3e491 = 'w&#97;rdsh&#117;s&#101;t' + '&#64;' + 't&#97;v&#101;
 lsj&#111;' + '&#46;' + 's&#101;';document.getElementById('cloakc0d7405e9dd8
 5c1374ba079d7ac3e491').innerHTML += ''+addy_textc0d7405e9dd85c1374ba079d7ac
 3e491+'';
		 eller messenger senast onsdag 6/11 \nVälkomna!
DTSTAMP:20260422T060819Z
DTSTART:20191110T080000Z
DTEND:20191110T170000Z
SEQUENCE:0
TRANSP:OPAQUE
END:VEVENT
END:VCALENDAR