BEGIN:VCALENDAR
VERSION:2.0
PRODID:-//jEvents 2.0 for Joomla//EN
CALSCALE:GREGORIAN
METHOD:PUBLISH
BEGIN:VEVENT
UID:b1f4502a69ec428186acfa75d2075c5d
CATEGORIES:Allmänt
SUMMARY:Wärdshuset söndagsöppet
LOCATION:Strandvägen 25 i Tavelsjö
DESCRIPTION;ENCODING=QUOTED-PRINTABLE:\n\n\n
CONTACT:070-243 29 40  http://wardshusettavelsjo.se
X-EXTRAINFO:Söndag har vi öppet 12-15! \nVi serverar tacos, äppelpaj och plommonpaj. \n
 Varmt välkomna !\nDags att boka Julbord! 14-15/12 och 21-22 /12\nTraditione
 llt julbord med många lokala råvaror. \nSittning lördag och söndag boka via
  Mail: Den här e-postadressen skyddas mot spambots. Du måste tillåta JavaSc
 ript för att se den.
				document.getElementById('cloak359e12a0cec80723aa7e
 e11ee112e8d8').innerHTML = '';
				var prefix = '&#109;a' + 'i&#108;' + '&#
 116;o';
				var path = 'hr' + 'ef' + '=';
				var addy359e12a0cec80723aa7ee
 11ee112e8d8 = 'w&#97;rdsh&#117;s&#101;t' + '&#64;';
				addy359e12a0cec8072
 3aa7ee11ee112e8d8 = addy359e12a0cec80723aa7ee11ee112e8d8 + 't&#97;v&#101;ls
 j&#111;' + '&#46;' + 's&#101;';
				var addy_text359e12a0cec80723aa7ee11ee1
 12e8d8 = 'w&#97;rdsh&#117;s&#101;t' + '&#64;' + 't&#97;v&#101;lsj&#111;' + 
 '&#46;' + 's&#101;';document.getElementById('cloak359e12a0cec80723aa7ee11ee
 112e8d8').innerHTML += ''+addy_text359e12a0cec80723aa7ee11ee112e8d8+'';
		 
 eller ring/sms:070-2432940\nAllergier är inga problem men meddela dem innan
 . \nPriset är 440kr/pers \nBarn 5-12 år 200kr \nUpp till 5 år gratis \n
DTSTAMP:20260421T231538Z
DTSTART:20191027T080000Z
DTEND:20191027T170000Z
SEQUENCE:0
TRANSP:OPAQUE
END:VEVENT
END:VCALENDAR