BEGIN:VCALENDAR
VERSION:2.0
PRODID:-//jEvents 2.0 for Joomla//EN
CALSCALE:GREGORIAN
METHOD:PUBLISH
BEGIN:VEVENT
UID:c429b7efb862624d1b7806e485b43f51
CATEGORIES:Allmänt
SUMMARY:Musikkafé 
LOCATION:Tavelsjö Bygdegård
DESCRIPTION;ENCODING=QUOTED-PRINTABLE:\n\n\n
DTSTAMP:20260422T060729Z
DTSTART:20191110T183000Z
SEQUENCE:0
TRANSP:OPAQUE
END:VEVENT
END:VCALENDAR