BEGIN:VCALENDAR
VERSION:2.0
PRODID:-//jEvents 2.0 for Joomla//EN
CALSCALE:GREGORIAN
METHOD:PUBLISH
BEGIN:VEVENT
UID:613af857a4a9e9eee6792fa86ca1350f
CATEGORIES:Allmänt
SUMMARY:Dans i Tavelsjö
LOCATION: Tavelsjö bygdegård
DESCRIPTION;ENCODING=QUOTED-PRINTABLE:\n\n\n\n\nDans till Mickes kultisgäng lördagen den 16 november kl.19-23 i T
 avelsjö bygdegård. Både modern och gammaldans.\n\n\nInträde: 150 kr, fika i
  pausen ingår.\n\n\n"Garanterat lika roligt som i våras!"\n\n\nArrangör: Ta
 velsjö hembygdsförening. Alla välkomna!\n
CONTACT:Rolf Appelblad 070-6681 35 71
DTSTAMP:20260422T060901Z
DTSTART:20191116T190000Z
DTEND:20191116T230000Z
SEQUENCE:0
TRANSP:OPAQUE
END:VEVENT
END:VCALENDAR