BEGIN:VCALENDAR
VERSION:2.0
PRODID:-//jEvents 2.0 for Joomla//EN
CALSCALE:GREGORIAN
METHOD:PUBLISH
BEGIN:VEVENT
UID:fefb0793a4ece8a44cee0297ad363846
CATEGORIES:Allmänt
SUMMARY:Tio Toppar Tavelsjö
LOCATION:Tavelsjöbygden
DESCRIPTION;ENCODING=QUOTED-PRINTABLE:\n\n\n
CONTACT:www.tiotoppar.se
X-EXTRAINFO:Ta med familjen ut på några av topparna!\nBild från  Tiotoppartavelsjö Hemb
 erget 205 m ö.h.
DTSTAMP:20260421T231559Z
DTSTART:20191020T080000Z
DTEND:20191020T170000Z
SEQUENCE:0
TRANSP:OPAQUE
END:VEVENT
END:VCALENDAR