BEGIN:VCALENDAR
VERSION:2.0
PRODID:-//jEvents 2.0 for Joomla//EN
CALSCALE:GREGORIAN
METHOD:PUBLISH
BEGIN:VEVENT
UID:c6d73c076c4a2b35b5493c877326e30e
CATEGORIES:Allmänt
SUMMARY:Blåeld Helgöppet
LOCATION:Strandvägen 25 i Tavelsjö
DESCRIPTION;ENCODING=QUOTED-PRINTABLE:\n\n\n
CONTACT:Katarina 070-308 3896 
X-EXTRAINFO:Nu har vi plockat fram lite nya saker ...\nVälkomna!\n
DTSTAMP:20260421T231538Z
DTSTART:20191020T120000Z
DTEND:20191020T150000Z
SEQUENCE:0
TRANSP:OPAQUE
END:VEVENT
END:VCALENDAR