BEGIN:VCALENDAR
VERSION:2.0
PRODID:-//jEvents 2.0 for Joomla//EN
CALSCALE:GREGORIAN
METHOD:PUBLISH
BEGIN:VEVENT
UID:87016176952891c0e1a9eaf9be3959cd
CATEGORIES:Allmänt
SUMMARY:Blåeld Helgöppet
LOCATION:Strandvägen 25 i Tavelsjö
DESCRIPTION;ENCODING=QUOTED-PRINTABLE:\n\n\n
CONTACT:Katarina 070-308 3896 
X-EXTRAINFO:Nu har vi plockat fram lite nya saker ...\nVälkomna!\n
DTSTAMP:20260421T231503Z
DTSTART:20191019T120000Z
DTEND:20191019T150000Z
SEQUENCE:0
TRANSP:OPAQUE
END:VEVENT
END:VCALENDAR