BEGIN:VCALENDAR
VERSION:2.0
PRODID:-//jEvents 2.0 for Joomla//EN
CALSCALE:GREGORIAN
METHOD:PUBLISH
BEGIN:VEVENT
UID:60527bd659f985eb0ff2354458035b5d
CATEGORIES:Allmänt
SUMMARY:Lördagsöppet Leva Gårdsbutik
LOCATION:Levagård i Östra Spöland 72
DESCRIPTION;ENCODING=QUOTED-PRINTABLE:\n\n\n
CONTACT:Eva & Leif
X-EXTRAINFO:Idag lördag Öppet 12-16\n I vår kyl har vi några fina bitar av Innanlår ,en
 trecote , ryggbiff o file detta veckoslut ! \n Som vi säger först till kvar
 n ......\n Köttfärs i vår frys \n\n Välkommen
DTSTAMP:20260421T231502Z
DTSTART:20191019T120000Z
DTEND:20191019T160000Z
SEQUENCE:0
TRANSP:OPAQUE
END:VEVENT
END:VCALENDAR