BEGIN:VCALENDAR
VERSION:2.0
PRODID:-//jEvents 2.0 for Joomla//EN
CALSCALE:GREGORIAN
METHOD:PUBLISH
BEGIN:VEVENT
UID:1015b0d9a74910f396884ef3ada2feee
CATEGORIES:Allmänt
SUMMARY:Rödå Antik helgöppet
LOCATION:Rödå Antik i Rödåsel
DESCRIPTION;ENCODING=QUOTED-PRINTABLE:\n\n\n
CONTACT:Ewa / 070-3626557
X-EXTRAINFO:Välkommen i helgen Lördag o Söndag\n 11-16 till Rödå Antik 
DTSTAMP:20260421T231502Z
DTSTART:20191019T110000Z
DTEND:20191019T160000Z
SEQUENCE:0
TRANSP:OPAQUE
END:VEVENT
END:VCALENDAR