BEGIN:VCALENDAR
VERSION:2.0
PRODID:-//jEvents 2.0 for Joomla//EN
CALSCALE:GREGORIAN
METHOD:PUBLISH
BEGIN:VEVENT
UID:3cb397657ef07257b516473d6fe8faee
CATEGORIES:Allmänt
SUMMARY:Wärdshuset stängt !
LOCATION:Wärdhuset, Tavelsjö Strandvägen 25
DESCRIPTION;ENCODING=QUOTED-PRINTABLE:\n\n\n
CONTACT:070-243 29 40  http://wardshusettavelsjo.se
X-EXTRAINFO:På grund av personalbrist måste vi hålla stängt på Wärdshuset i helgen.\nVi
   önskar er varmt välkomna på pubkväll fredag 25 oktober samt söndagsöppet 
 27 oktober 12-15
DTSTAMP:20260421T232549Z
DTSTART:20191019T120000Z
DTEND:20191019T150000Z
SEQUENCE:0
TRANSP:OPAQUE
END:VEVENT
END:VCALENDAR